BEGIN:VCALENDAR
VERSION:2.0
PRODID:-//ChamberMaster//Event Calendar 2.0//EN
METHOD:PUBLISH
X-PUBLISHED-TTL:P3D
REFRESH-INTERVAL:P3D
CALSCALE:GREGORIAN
BEGIN:VEVENT
DTSTART:20260418T000000Z
DTEND:20260418T030000Z
X-MICROSOFT-CDO-ALLDAYEVENT:FALSE
SUMMARY:2026 BuildLACCD Small Contractor Boot Camp
DESCRIPTION:The Los Angeles Community College District's (LACCD) Small Contractor Boot Camp is a four-session program explicitly designed for small contractors to improve their competitive bidding capacity. Through a comprehensive curriculum\, small contractors will learn more about the prequalification process for the BuildLACCD Program's Pre-Qualified Service Provider (PQSP) bench\, for projects ranging from $25K - $5M.
X-ALT-DESC;FMTTYPE=text/html:The Los Angeles Community College District&#39\;s (LACCD) Small Contractor Boot Camp is a four-session program explicitly designed for small contractors to improve their competitive bidding capacity. Through a comprehensive curriculum\, small contractors will learn more about the prequalification process for the BuildLACCD Program&#39\;s Pre-Qualified Service Provider (PQSP) bench\, for projects ranging from $25K - $5M.
LOCATION:2215 S. Grand Ave\, Los Angeles\, CA 90007
UID:e.3108.2924
SEQUENCE:3
DTSTAMP:20260419T224112Z
URL:https://business.centurycitycc.com/events/details/2026-buildlaccd-small-contractor-boot-camp-2924
END:VEVENT

END:VCALENDAR
