BEGIN:VCALENDAR
VERSION:2.0
PRODID:-//ChamberMaster//Event Calendar 2.0//EN
METHOD:PUBLISH
X-PUBLISHED-TTL:P3D
REFRESH-INTERVAL:P3D
CALSCALE:GREGORIAN
BEGIN:VEVENT
DTSTART:20261015T190000Z
DTEND:20261015T200000Z
X-MICROSOFT-CDO-ALLDAYEVENT:FALSE
SUMMARY:Arts Council Event
DESCRIPTION:Save the Date!
X-ALT-DESC;FMTTYPE=text/html:Save the Date!
LOCATION:
UID:e.3108.2975
SEQUENCE:3
DTSTAMP:20260419T135905Z
URL:https://business.centurycitycc.com/events/details/arts-council-event-2975
END:VEVENT

END:VCALENDAR
