BEGIN:VCALENDAR
VERSION:2.0
PRODID:-//ChamberMaster//Event Calendar 2.0//EN
METHOD:PUBLISH
X-PUBLISHED-TTL:P3D
REFRESH-INTERVAL:P3D
CALSCALE:GREGORIAN
BEGIN:VEVENT
DTSTART:20231004T190000Z
DTEND:20231004T200000Z
X-MICROSOFT-CDO-ALLDAYEVENT:FALSE
SUMMARY:Board of Directors Meeting
DESCRIPTION:Monthly Board of Directors meeting. Members only. The 1st Wednesday of each month. Hybrid.
X-ALT-DESC;FMTTYPE=text/html:<br />\nMonthly Board of Directors meeting. Members only. The 1st Wednesday of each month. Hybrid.
LOCATION:
UID:e.3108.2101
SEQUENCE:3
DTSTAMP:20260421T001151Z
URL:https://business.centurycitycc.com/events/details/board-of-directors-meeting-10-04-2023-2101
END:VEVENT

END:VCALENDAR
