BEGIN:VCALENDAR
VERSION:2.0
PRODID:-//ChamberMaster//Event Calendar 2.0//EN
METHOD:PUBLISH
X-PUBLISHED-TTL:P3D
REFRESH-INTERVAL:P3D
CALSCALE:GREGORIAN
BEGIN:VEVENT
DTSTART:20261007T190000Z
DTEND:20261007T200000Z
X-MICROSOFT-CDO-ALLDAYEVENT:FALSE
SUMMARY:Board of Directors Meeting
DESCRIPTION:Monthly Board of Directors meeting. All members invited. 12pm-1:00pm. Hybrid. Register to receive the in-person address and Zoom link.
X-ALT-DESC;FMTTYPE=text/html:<span style="font-family: arial\; font-size: 14px\;">Monthly Board of Directors meeting. All members invited. 12pm-1:00pm. Hybrid. Register to receive the in-person address and Zoom link.&nbsp\;</span>
LOCATION:
UID:e.3108.2703
SEQUENCE:3
DTSTAMP:20260419T153316Z
URL:https://business.centurycitycc.com/events/details/board-of-directors-meeting-10-07-2026-2703
END:VEVENT

END:VCALENDAR
