BEGIN:VCALENDAR
VERSION:2.0
PRODID:-//ChamberMaster//Event Calendar 2.0//EN
METHOD:PUBLISH
X-PUBLISHED-TTL:P3D
REFRESH-INTERVAL:P3D
CALSCALE:GREGORIAN
BEGIN:VEVENT
DTSTART:20240229T200000Z
DTEND:20240229T213000Z
X-MICROSOFT-CDO-ALLDAYEVENT:FALSE
SUMMARY:Century City Board Lunch
DESCRIPTION:Smaller Group Board of Directors Lunch - Invitation Only.
X-ALT-DESC;FMTTYPE=text/html:<br />\nSmaller Group Board of Directors Lunch - Invitation Only.&nbsp\;
LOCATION:
UID:e.3108.2473
SEQUENCE:3
DTSTAMP:20260424T160032Z
URL:https://business.centurycitycc.com/events/details/century-city-board-lunch-2473
END:VEVENT

END:VCALENDAR
