BEGIN:VCALENDAR
VERSION:2.0
PRODID:-//ChamberMaster//Event Calendar 2.0//EN
METHOD:PUBLISH
X-PUBLISHED-TTL:P3D
REFRESH-INTERVAL:P3D
CALSCALE:GREGORIAN
BEGIN:VEVENT
DTSTART:20260512T170000Z
DTEND:20260512T180000Z
X-MICROSOFT-CDO-ALLDAYEVENT:FALSE
SUMMARY:Coffee & Connections
DESCRIPTION:Building meaningful professional relationships shouldn't feel like a chore. It should be as natural as your morning cup of coffee\, matcha or tea!\n\nWe are thrilled to invite you to the launch of Coffee & Connections\, a new monthly meet-up designed for professionals who value getting to know others in the community.\n\n\n\nBuy your own drink on every second Tuesday of the month from 10am-11am\, rotating at different beverage spots around Century City.\n\n\n\nJoin us to take a break from the screen\, share ideas\, and expand your local network in a relaxed\, intentional environment.\n\nWhen: Tuesday\, May 12\n\nTime: 10:00 AM   11:00 AM\n\nWhere: Tilt Coffee\, 2000 Avenue of the Stars\n\nPlease RSVP by May 8th so the venue can prepare accordingly.
X-ALT-DESC;FMTTYPE=text/html:<div class="Y3BBE" data-complete="true" data-hveid="CAEIAxAA" data-processed="true" data-sfc-cb="" data-sfc-cp="" data-sfc-root="c" jsaction="rcuQ6b:&amp\;XN7Pfb_h|npT2md" jscontroller="zcfIf" jsuid="XN7Pfb_h" style="font-family: &quot\;Google Sans&quot\;\, Roboto\, Arial\, sans-serif\; font-size: 16px\; line-height: 24px\; overflow-wrap: break-word\; margin-block: 12px 16px\; margin-top: 16px\; margin-bottom: 16px\; padding-top: 0px\; padding-bottom: 0px\; color: rgb(10\, 10\, 10)\;"><span style="font-size:18px\;"><span style="font-family:arial\;">Building meaningful professional relationships shouldn&#39\;t feel like a chore. It should be as natural as your morning cup of coffee\,&nbsp\;matcha or tea!</span></span></div>\n\n<div class="Y3BBE" data-complete="true" data-hveid="CAEIBBAA" data-processed="true" data-sfc-cb="" data-sfc-cp="" data-sfc-root="c" jsaction="rcuQ6b:&amp\;XN7Pfb_i|npT2md" jscontroller="zcfIf" jsuid="XN7Pfb_i" style="font-family: &quot\;Google Sans&quot\;\, Roboto\, Arial\, sans-serif\; font-size: 16px\; line-height: 24px\; overflow-wrap: break-word\; margin-block: 12px 16px\; margin-top: 16px\; margin-bottom: 16px\; padding-top: 0px\; padding-bottom: 0px\; color: rgb(10\, 10\, 10)\;"><span style="font-size:18px\;"><span style="font-family:arial\;">We are thrilled to invite you to the launch of Coffee &amp\; Connections\, a new monthly meet-up designed for professionals who value getting to know others in the community.<br />\n<br />\nBuy your own drink on every second Tuesday of the month from 10am-11am\, rotating at different beverage spots around Century City.<br />\n<br />\nJoin us to take a break from&nbsp\;the screen\, share ideas\, and expand your local network in a relaxed\, intentional environment.</span></span></div>\n\n<div class="Y3BBE" data-complete="true" data-hveid="CAEIBRAA" data-processed="true" data-sfc-cb="" data-sfc-cp="" data-sfc-root="c" jsaction="rcuQ6b:&amp\;XN7Pfb_j|npT2md" jscontroller="zcfIf" jsuid="XN7Pfb_j" style="font-family: &quot\;Google Sans&quot\;\, Roboto\, Arial\, sans-serif\; font-size: 16px\; line-height: 24px\; overflow-wrap: break-word\; margin-block: 12px 16px\; margin-top: 16px\; margin-bottom: 16px\; padding-top: 0px\; padding-bottom: 0px\; color: rgb(10\, 10\, 10)\;"><span style="font-size:18px\;"><span style="font-family:arial\;">When: Tuesday\, May 12<br data-complete="true" data-processed="true" data-sfc-cb="" data-sfc-pl="|[]" data-sfc-root="c" jsaction="" jscontroller="Gy8rfb" jsuid="XN7Pfb_k" />\nTime: 10:00 AM &ndash\; 11:00 AM<br data-complete="true" data-processed="true" data-sfc-cb="" data-sfc-pl="|[]" data-sfc-root="c" jsaction="" jscontroller="Gy8rfb" jsuid="XN7Pfb_l" />\nWhere: Tilt Coffee\, 2000 Avenue of the Stars</span></span></div>\n\n<div aria-owns="action-menu-parent-container" class="Y3BBE" data-complete="true" data-hveid="CAEIBxAA" data-processed="true" data-sfc-cb="" data-sfc-cp="" data-sfc-root="c" jsaction="rcuQ6b:&amp\;XN7Pfb_o|npT2md" jscontroller="zcfIf" jsuid="XN7Pfb_o" style="font-family: &quot\;Google Sans&quot\;\, Roboto\, Arial\, sans-serif\; font-size: 16px\; line-height: 24px\; overflow-wrap: break-word\; margin-block: 12px 16px\; margin-top: 16px\; margin-bottom: 16px\; padding-top: 0px\; padding-bottom: 0px\; color: rgb(10\, 10\, 10)\;"><span style="font-size:18px\;"><span style="font-family:arial\;">Please RSVP by May 8th so the venue can prepare accordingly.</span></span></div>\n
LOCATION:
UID:e.3108.2976
SEQUENCE:3
DTSTAMP:20260424T001459Z
URL:https://business.centurycitycc.com/events/details/coffee-connections-2976
END:VEVENT

END:VCALENDAR
