BEGIN:VCALENDAR
VERSION:2.0
PRODID:-//ChamberMaster//Event Calendar 2.0//EN
METHOD:PUBLISH
X-PUBLISHED-TTL:P3D
REFRESH-INTERVAL:P3D
CALSCALE:GREGORIAN
BEGIN:VEVENT
DTSTART;VALUE=DATE:20260612
DTEND;VALUE=DATE:20260613
TRANSP:TRANSPARENT
X-MICROSOFT-CDO-ALLDAYEVENT:TRUE
SUMMARY:FIFA World Cup at SOFI Stadium
DESCRIPTION:Los Angeles will be the place to start your FIFA World Cup 26  experience as we prepare to welcome eight matches\, including the U.S. Men's National Team (USMNT) opening match vs. Paraguay on June 12\, 2026.\n\nThe LA schedule includes four additional Group Stage matches featuring Belgium\, Iran\, New Zealand\, Switzerland\, USA and the European Play-Off A and C winners\, two Round of 32 knockout matches\, one Quarterfinal match and 39-days of fan engagement during the world's largest single-sport event. More information:\n\nFIFA World Cup 26 Los Angeles
X-ALT-DESC;FMTTYPE=text/html:<p style="box-sizing: border-box\; margin: 0px\; padding: 0px 0px 1em\; border: 0px\; outline: 0px\; font-size: 15px\; text-size-adjust: 100%\; vertical-align: baseline\; background-image: initial\; background-position: initial\; background-size: initial\; background-repeat: initial\; background-attachment: initial\; background-origin: initial\; background-clip: initial\; color: rgb(0\, 0\, 0)\; font-family: FWC2026-BETA-NormalThin\, Helvetica\, Arial\, Lucida\, sans-serif\;"><span style="font-size:16px\;"><span style="font-family:arial\;">Los Angeles will be the place to start your FIFA World Cup 26&trade\; experience as we prepare to welcome&nbsp\;<a href="https://www.fifa.com/en/tournaments/mens/worldcup/canadamexicousa2026/articles/fifa-world-cup-26-match-schedule-revealed" rel="noopener" style="box-sizing: border-box\; margin: 0px\; padding: 0px\; border: 0px\; outline: 0px\; text-size-adjust: 100%\; vertical-align: baseline\; background: transparent\; color: rgb(98\, 0\, 235)\; text-decoration-line: none\;" target="_blank"><span style="box-sizing: border-box\; margin: 0px\; padding: 0px\; border: 0px\; outline: 0px\; text-size-adjust: 100%\; vertical-align: baseline\; background: transparent\; font-weight: 700\;">eight matches</span></a>\, including the U.S. Men&rsquo\;s National Team (USMNT) opening match vs. Paraguay on June 12\, 2026.</span></span></p>\n\n<p style="box-sizing: border-box\; margin: 0px\; padding: 0px 0px 1em\; border: 0px\; outline: 0px\; font-size: 15px\; text-size-adjust: 100%\; vertical-align: baseline\; background-image: initial\; background-position: initial\; background-size: initial\; background-repeat: initial\; background-attachment: initial\; background-origin: initial\; background-clip: initial\; color: rgb(0\, 0\, 0)\; font-family: FWC2026-BETA-NormalThin\, Helvetica\, Arial\, Lucida\, sans-serif\;"><span style="font-size:16px\;"><span style="font-family:arial\;">The LA schedule includes four additional Group Stage matches featuring Belgium\, Iran\, New Zealand\, Switzerland\, USA and the European Play-Off A and C winners\, two Round of 32 knockout matches\, one Quarterfinal match and 39-days of fan engagement during the world&rsquo\;s largest single-sport event. More information:<br />\n<a href="https://losangelesfwc26.com/">FIFA World Cup 26 Los Angeles&trade\;</a></span></span></p>\n
LOCATION:
UID:e.3108.2710
SEQUENCE:3
DTSTAMP:20260419T195301Z
URL:https://business.centurycitycc.com/events/details/fifa-world-cup-at-sofi-stadium-2710
END:VEVENT

END:VCALENDAR
