BEGIN:VCALENDAR
VERSION:2.0
PRODID:-//ChamberMaster//Event Calendar 2.0//EN
METHOD:PUBLISH
X-PUBLISHED-TTL:P3D
REFRESH-INTERVAL:P3D
CALSCALE:GREGORIAN
BEGIN:VEVENT
DTSTART:20211022T000000Z
DTEND:20211022T020000Z
X-MICROSOFT-CDO-ALLDAYEVENT:FALSE
SUMMARY:Happy Hour at the Fairmont Century Plaza Hotel
DESCRIPTION:In anticipation of the weather being windy and cold from 5-7pm on Thursday\, we are relocating to the Gold Lounge on the lobby level. The walls open to the outside so that way there will be inside or outside for you to enjoy. Gold Lounge (the space where XBAR used to be) is located on the north side of the hotel. Once you enter the hotel\, walk to the right until you reach the very end of the building. Tours will be available for you to still see the rooftop pool. Look forward to seeing you on Thursday!\n\n\n\nHappy hour at the iconic Fairmont Century Plaza Hotel!\n\n\n\nWine\, beer & appetizers. Parking: Hotel valet $22
X-ALT-DESC;FMTTYPE=text/html:<span style="font-family:calibri\,sans-serif\;"><span style="font-size:11.0pt\;">In anticipation of the weather being windy and cold&nbsp\;from 5-7pm on Thursday\, we are relocating to the Gold Lounge on the lobby level. The walls open to the outside so that way there will be inside or outside for you to enjoy. Gold Lounge (the space where XBAR used to be)&nbsp\;is located on the north side of the hotel.&nbsp\;Once you enter the hotel\, walk to the right until you reach the very end of the building. Tours will be available for you to still see the rooftop pool. Look forward to seeing you on Thursday!</span></span><br />\n<br />\nHappy hour at the iconic Fairmont Century Plaza Hotel!<br />\n<br />\nWine\, beer &amp\; appetizers.&nbsp\;Parking: Hotel valet $22
LOCATION:2025 Avenue of the Stars
UID:e.3108.1988
SEQUENCE:3
DTSTAMP:20260420T003603Z
URL:https://business.centurycitycc.com/events/details/happy-hour-at-the-fairmont-century-plaza-hotel-1988
END:VEVENT

END:VCALENDAR
