BEGIN:VCALENDAR
VERSION:2.0
PRODID:-//ChamberMaster//Event Calendar 2.0//EN
METHOD:PUBLISH
X-PUBLISHED-TTL:P3D
REFRESH-INTERVAL:P3D
CALSCALE:GREGORIAN
BEGIN:VEVENT
DTSTART;VALUE=DATE:20231001
DTEND;VALUE=DATE:20231002
TRANSP:TRANSPARENT
X-MICROSOFT-CDO-ALLDAYEVENT:TRUE
SUMMARY:Jazz under the Malibu Stars
DESCRIPTION:Join us on Oct. 1 in the breathtaking coastal haven of Malibu\, where the glistening ocean will be the backdrop for an unforgettable experience filled with live jazz\, a delectable dinner\, and special guests from the "Love on the Spectrum" Netflix series. Save the date and prepare to make a difference!\n\nhttps://www.aheadwithautism.org/autism-benefit-gala/
X-ALT-DESC;FMTTYPE=text/html:<p>Join us on Oct. 1 in the breathtaking coastal&nbsp\;haven of Malibu\, where the glistening ocean will&nbsp\;be the backdrop for an unforgettable experience&nbsp\;filled with live jazz\, a delectable dinner\, and&nbsp\;special guests from the &quot\;Love on the Spectrum&quot\;&nbsp\;Netflix series. Save the date and prepare to make&nbsp\;a difference!<br />\n<a href="https://www.aheadwithautism.org/autism-benefit-gala/" target="_blank">https://www.aheadwithautism.org/autism-benefit-gala/</a><br />\n&nbsp\;</p>\n
LOCATION:
UID:e.3108.2185
SEQUENCE:3
DTSTAMP:20260425T202046Z
URL:https://business.centurycitycc.com/events/details/jazz-under-the-malibu-stars-2185
END:VEVENT

END:VCALENDAR
