BEGIN:VCALENDAR
VERSION:2.0
PRODID:-//ChamberMaster//Event Calendar 2.0//EN
METHOD:PUBLISH
X-PUBLISHED-TTL:P3D
REFRESH-INTERVAL:P3D
CALSCALE:GREGORIAN
BEGIN:VEVENT
DTSTART:20260514T183000Z
DTEND:20260514T200000Z
X-MICROSOFT-CDO-ALLDAYEVENT:FALSE
SUMMARY:Senior Care Simplified: Options\, Costs & Next Steps
DESCRIPTION:Senior Care Simplified: Options\, Costs & Next Steps\n\n\n\nLiz Schwan\, Certified Senior Advisor\, Area Owner\, Los Angeles Senior Care Authority\, will provide a clear overview of senior care options from in-home care to assisted living and beyond designed to help families choose the right level of care. Includes key factors such as care needs\, lifestyle\, costs in Los Angeles\, and ways to pay\, enabling families to plan with confidence.\n\n\n\nNavigating the Landscape of Senior Care is a practical presentation for those planning ahead for themselves and for adult children supporting a loved one. It covers the full range of senior care options\, from in home care to independent living\, assisted living\, memory care\, CCRCs\, and skilled nursing. It also reviews key considerations including care levels\, lifestyle\, and cost\, along with an overview of typical costs in Los Angeles and how families pay for care. The goal is to provide clarity and help families move forward with confidence.\n\n \n\nAssisted Living & Memory Care Services | Los Angeles CA\n\n\n\nThank you to our host: Thompson Coburn.
X-ALT-DESC;FMTTYPE=text/html:<strong>Senior Care Simplified: Options\, Costs &amp\; Next Steps</strong><br />\n<br />\nLiz Schwan\, Certified Senior Advisor\, Area Owner\, Los Angeles Senior Care Authority\, will provide a&nbsp\;clear overview of senior care options&mdash\;from in-home care to assisted living and beyond&mdash\;designed to help families choose the right level of care. Includes key factors such as care needs\, lifestyle\, costs in Los Angeles\, and ways to pay\, enabling families to plan with confidence.<br />\n<br />\nNavigating the Landscape of Senior Care&nbsp\;is a practical presentation for those planning ahead for themselves and for adult children supporting a loved one. It covers the full range of senior care options\, from in home care to independent living\, assisted living\, memory care\, CCRCs\, and skilled nursing. It also reviews key considerations including care levels\, lifestyle\, and cost\, along with an overview of typical costs in Los Angeles and how families pay for care. The goal is to provide clarity and help families move forward with confidence.<br />\n&nbsp\;<br />\n<a href="https://www.seniorcareauthority.com/locations/los-angeles/">Assisted Living &amp\; Memory Care Services | Los Angeles CA</a><br />\n<br />\nThank you to our host: Thompson Coburn.
LOCATION:
UID:e.3108.2974
SEQUENCE:3
DTSTAMP:20260419T210728Z
URL:https://business.centurycitycc.com/events/details/senior-care-simplified-options-costs-next-steps-2974
END:VEVENT

END:VCALENDAR
