BEGIN:VCALENDAR
VERSION:2.0
PRODID:-//ChamberMaster//Event Calendar 2.0//EN
METHOD:PUBLISH
X-PUBLISHED-TTL:P3D
REFRESH-INTERVAL:P3D
CALSCALE:GREGORIAN
BEGIN:VEVENT
DTSTART:20210812T230000Z
DTEND:20210813T000000Z
X-MICROSOFT-CDO-ALLDAYEVENT:FALSE
SUMMARY:Thirsty Thursday Multi-Chamber Speed Networking
DESCRIPTION:Thirsty Thursday Virtual Multi-Chamber Speed Networking Mixer from 4-5pm. Complimentary for Chamber members.\n\n\n\nRegister:\n\nhttps://shop.sanfernandovalleychamber.com/collections/calendar-events/products/thirsty-thursday
X-ALT-DESC;FMTTYPE=text/html:<div style="padding: 0px\; margin: 0px\; line-height: 1.2\; font-size: 14px\;"><br />\n<br />\n<span style="font-weight: bold\;">Thirsty Thursday Virtual Multi-Chamber Speed Networking Mixer from&nbsp\;4-5pm. Complimentary for Chamber members.<br />\n<br />\nRegister:</span><br />\n<span style="color:#1F497D\;"><span style="font-family:calibri\,sans-serif\;"><span style="font-size:11.0pt\;"><a href="https://shop.sanfernandovalleychamber.com/collections/calendar-events/products/thirsty-thursday">https://shop.sanfernandovalleychamber.com/collections/calendar-events/products/thirsty-thursday</a></span></span></span></div>\n
LOCATION:
UID:e.3108.1974
SEQUENCE:3
DTSTAMP:20260422T090829Z
URL:https://business.centurycitycc.com/events/details/thirsty-thursday-multi-chamber-speed-networking-08-12-2021-1974
END:VEVENT

END:VCALENDAR
