BEGIN:VCALENDAR
VERSION:2.0
PRODID:-//ChamberMaster//Event Calendar 2.0//EN
METHOD:PUBLISH
X-PUBLISHED-TTL:P3D
REFRESH-INTERVAL:P3D
CALSCALE:GREGORIAN
BEGIN:VEVENT
DTSTART:20260908T190000Z
DTEND:20260908T200000Z
X-MICROSOFT-CDO-ALLDAYEVENT:FALSE
SUMMARY:Women's Business Council
DESCRIPTION:Monthly Women's Business Council Networking Lunch Meeting from 12pm-1pm. Members only. Hybrid.\n\n\n\nRegistration is required to attend in-person and to receive a Zoom link.
X-ALT-DESC;FMTTYPE=text/html:<span style="font-size:11.0pt\;">Monthly Women&#39\;s Business Council Networking Lunch Meeting from 12pm-1pm. Members only. Hybrid.<br />\n<br />\nRegistration is required to attend in-person and to receive a Zoom link.&nbsp\;</span>
LOCATION:Location TBD closer to meeting date
UID:e.3108.2679
SEQUENCE:3
DTSTAMP:20260419T153719Z
URL:https://business.centurycitycc.com/events/details/women-s-business-council-09-08-2026-2679
END:VEVENT

END:VCALENDAR
